BEGIN:VCALENDAR
VERSION:2.0
PRODID:-//Weber Center for the Performing Arts - ECPv6.15.18//NONSGML v1.0//EN
CALSCALE:GREGORIAN
METHOD:PUBLISH
X-ORIGINAL-URL:https://www.webercenterarts.org
X-WR-CALDESC:Events for Weber Center for the Performing Arts
REFRESH-INTERVAL;VALUE=DURATION:PT1H
X-Robots-Tag:noindex
X-PUBLISHED-TTL:PT1H
BEGIN:VTIMEZONE
TZID:America/Chicago
BEGIN:DAYLIGHT
TZOFFSETFROM:-0600
TZOFFSETTO:-0500
TZNAME:CDT
DTSTART:20210314T080000
END:DAYLIGHT
BEGIN:STANDARD
TZOFFSETFROM:-0500
TZOFFSETTO:-0600
TZNAME:CST
DTSTART:20211107T070000
END:STANDARD
BEGIN:DAYLIGHT
TZOFFSETFROM:-0600
TZOFFSETTO:-0500
TZNAME:CDT
DTSTART:20220313T080000
END:DAYLIGHT
BEGIN:STANDARD
TZOFFSETFROM:-0500
TZOFFSETTO:-0600
TZNAME:CST
DTSTART:20221106T070000
END:STANDARD
BEGIN:DAYLIGHT
TZOFFSETFROM:-0600
TZOFFSETTO:-0500
TZNAME:CDT
DTSTART:20230312T080000
END:DAYLIGHT
BEGIN:STANDARD
TZOFFSETFROM:-0500
TZOFFSETTO:-0600
TZNAME:CST
DTSTART:20231105T070000
END:STANDARD
BEGIN:DAYLIGHT
TZOFFSETFROM:-0600
TZOFFSETTO:-0500
TZNAME:CDT
DTSTART:20240310T080000
END:DAYLIGHT
BEGIN:STANDARD
TZOFFSETFROM:-0500
TZOFFSETTO:-0600
TZNAME:CST
DTSTART:20241103T070000
END:STANDARD
END:VTIMEZONE
BEGIN:VEVENT
DTSTART;TZID=America/Chicago:20230224T193000
DTEND;TZID=America/Chicago:20230224T220000
DTSTAMP:20260425T104031
CREATED:20220721T204906Z
LAST-MODIFIED:20220721T211634Z
UID:4906-1677267000-1677276000@www.webercenterarts.org
SUMMARY:ZEPPO: Stairway to Eleven
DESCRIPTION:ZEPPO is not your traditional tribute band. There are no wigs or costumes. Rather\, they are a “fan band.” These veteran Midwest rockers bring the music of Led Zepplin to life with pedigreed musicianship while remaining true to the spirit that which inspires: Led Zepplin.Presented by the Viterbo University Fine Arts Center.  \n\n\n\n\n\n\nDates\n\n\n\nFriday\, Feb. 24\, 2023 at 7:30 p.m.\n\n\n\n\n\nPricing
URL:https://www.webercenterarts.org/event/zeppo-stairway-to-eleven/
LOCATION:Lyche Theatre\, 428 Front Street\, South\, La Crosse\, 54601
CATEGORIES:Viterbo University Fine Arts Center
ATTACH;FMTTYPE=image/jpeg:https://www.webercenterarts.org/wp-content/uploads/2022/07/ZEPPO-1200x675-2.jpg
GEO:43.8107308;-91.2568639
X-APPLE-STRUCTURED-LOCATION;VALUE=URI;X-ADDRESS=Lyche Theatre 428 Front Street South La Crosse 54601;X-APPLE-RADIUS=500;X-TITLE=428 Front Street\, South:geo:-91.2568639,43.8107308
END:VEVENT
BEGIN:VEVENT
DTSTART;TZID=America/Chicago:20230121T193000
DTEND;TZID=America/Chicago:20230121T220000
DTSTAMP:20260425T104031
CREATED:20220721T204647Z
LAST-MODIFIED:20220927T163845Z
UID:4905-1674329400-1674338400@www.webercenterarts.org
SUMMARY:Tapestry: The Music of Carole King
DESCRIPTION:Tapestry: The Music of Carole King faithfully recreates the glorious sound of a Carole King concert\, leaving audiences with memories of the great music she wrote and recorded\, including A Natural Woman\, So Far Away\, I Feel the Earth Move\, and Beautiful–the title song of the mega-hit Broadway musical about the life and times of one of America’s most prolific\, honored\, and revered singer-songwriters. Presented by the Viterbo University Fine Arts Center. \n\n\n\n\n\n\nDates\n\n\n\nSaturday\, Jan. 21\, 2023 at 7:30 p.m. \n\n\n\n\n\nPricing
URL:https://www.webercenterarts.org/event/tapestry-the-music-of-carole-king/
LOCATION:Lyche Theatre\, 428 Front Street\, South\, La Crosse\, 54601
CATEGORIES:Featured,Viterbo University Fine Arts Center
ATTACH;FMTTYPE=image/jpeg:https://www.webercenterarts.org/wp-content/uploads/2022/07/Tapestry-1200x675-2.jpg
GEO:43.8107308;-91.2568639
X-APPLE-STRUCTURED-LOCATION;VALUE=URI;X-ADDRESS=Lyche Theatre 428 Front Street South La Crosse 54601;X-APPLE-RADIUS=500;X-TITLE=428 Front Street\, South:geo:-91.2568639,43.8107308
END:VEVENT
BEGIN:VEVENT
DTSTART;TZID=America/Chicago:20221120T140000
DTEND;TZID=America/Chicago:20221120T163000
DTSTAMP:20260425T104031
CREATED:20220721T210305Z
LAST-MODIFIED:20220927T164355Z
UID:4911-1668952800-1668961800@www.webercenterarts.org
SUMMARY:Measure for Measure
DESCRIPTION:VITERBO UNIVERSITY CONSERVATORY FOR THE PERFORMING ARTSShakespeare’s Measure for Measure masterfully explores the morality of a society caught between two worlds. With an austere new head of state in place\, long-ignores codes of conduct are suddenly enforced leading to pleas for mercy that are met with indecent demands for quid pro quo. “Who will believe thee\, Isabel? My false o’erweighs your true.” \n\n\n\n\n\n\nDates\n\n\n\nFriday\, Nov. 18 at 7:30 p.m.Saturday\, Nov. 19 at 7:30 p.m.Sunday\, Nov. 20 at 2 p.m.\n\n\n\n\n\nPricing
URL:https://www.webercenterarts.org/event/measure-for-measure-3/
LOCATION:Lyche Theatre\, 428 Front Street\, South\, La Crosse\, 54601
CATEGORIES:Featured,Viterbo University Fine Arts Center
ATTACH;FMTTYPE=image/jpeg:https://www.webercenterarts.org/wp-content/uploads/2022/07/Measure-for-Measure-1200x675-1.jpg
GEO:43.8107308;-91.2568639
X-APPLE-STRUCTURED-LOCATION;VALUE=URI;X-ADDRESS=Lyche Theatre 428 Front Street South La Crosse 54601;X-APPLE-RADIUS=500;X-TITLE=428 Front Street\, South:geo:-91.2568639,43.8107308
END:VEVENT
BEGIN:VEVENT
DTSTART;TZID=America/Chicago:20221119T193000
DTEND;TZID=America/Chicago:20221119T220000
DTSTAMP:20260425T104031
CREATED:20220721T210217Z
LAST-MODIFIED:20220927T164321Z
UID:4910-1668886200-1668895200@www.webercenterarts.org
SUMMARY:Measure for Measure
DESCRIPTION:VITERBO UNIVERSITY CONSERVATORY FOR THE PERFORMING ARTSShakespeare’s Measure for Measure masterfully explores the morality of a society caught between two worlds. With an austere new head of state in place\, long-ignores codes of conduct are suddenly enforced leading to pleas for mercy that are met with indecent demands for quid pro quo. “Who will believe thee\, Isabel? My false o’erweighs your true.” \n\n\n\n\n\n\nDates\n\n\n\nFriday\, Nov. 18 at 7:30 p.m.Saturday\, Nov. 19 at 7:30 p.m.Sunday\, Nov. 20 at 2 p.m.\n\n\n\n\n\nPricing
URL:https://www.webercenterarts.org/event/measure-for-measure-2/
LOCATION:Lyche Theatre\, 428 Front Street\, South\, La Crosse\, 54601
CATEGORIES:Featured,Viterbo University Fine Arts Center
ATTACH;FMTTYPE=image/jpeg:https://www.webercenterarts.org/wp-content/uploads/2022/07/Measure-for-Measure-1200x675-1.jpg
GEO:43.8107308;-91.2568639
X-APPLE-STRUCTURED-LOCATION;VALUE=URI;X-ADDRESS=Lyche Theatre 428 Front Street South La Crosse 54601;X-APPLE-RADIUS=500;X-TITLE=428 Front Street\, South:geo:-91.2568639,43.8107308
END:VEVENT
BEGIN:VEVENT
DTSTART;TZID=America/Chicago:20221118T193000
DTEND;TZID=America/Chicago:20221118T220000
DTSTAMP:20260425T104031
CREATED:20220721T210142Z
LAST-MODIFIED:20220927T164544Z
UID:4909-1668799800-1668808800@www.webercenterarts.org
SUMMARY:Measure for Measure
DESCRIPTION:VITERBO UNIVERSITY CONSERVATORY FOR THE PERFORMING ARTSShakespeare’s Measure for Measure masterfully explores the morality of a society caught between two worlds. With an austere new head of state in place\, long-ignores codes of conduct are suddenly enforced leading to pleas for mercy that are met with indecent demands for quid pro quo. “Who will believe thee\, Isabel? My false o’erweighs your true.” \n\n\n\n\n\n\nDates\n\n\n\nFriday\, Nov. 18 at 7:30 p.m.Saturday\, Nov. 19 at 7:30 p.m.Sunday\, Nov. 20 at 2 p.m.\n\n\n\n\n\nPricing
URL:https://www.webercenterarts.org/event/measure-for-measure/
LOCATION:Lyche Theatre\, 428 Front Street\, South\, La Crosse\, 54601
CATEGORIES:Featured,Viterbo University Fine Arts Center
ATTACH;FMTTYPE=image/jpeg:https://www.webercenterarts.org/wp-content/uploads/2022/07/Measure-for-Measure-1200x675-1.jpg
GEO:43.8107308;-91.2568639
X-APPLE-STRUCTURED-LOCATION;VALUE=URI;X-ADDRESS=Lyche Theatre 428 Front Street South La Crosse 54601;X-APPLE-RADIUS=500;X-TITLE=428 Front Street\, South:geo:-91.2568639,43.8107308
END:VEVENT
BEGIN:VEVENT
DTSTART;TZID=America/Chicago:20220923T193000
DTEND;TZID=America/Chicago:20220923T220000
DTSTAMP:20260425T104031
CREATED:20220721T201109Z
LAST-MODIFIED:20220927T163726Z
UID:4885-1663961400-1663970400@www.webercenterarts.org
SUMMARY:Killer Vees Present Killer Country
DESCRIPTION:The Killer Vees present the classic songs from the golden age of country. Jeff and Tommy Vee are known in the music business as the “rhythm section to the stars” have been wowing audiences across the world for about 40 years.Presented by the Viterbo University Fine Arts Center.  \n\n\n\n\n\n\nDates\n\n\n\nFriday\, Sept. 23 at 7:30 p.m.\n\n\n\n\n\nPricing
URL:https://www.webercenterarts.org/event/killer-vees-present-killer-country-2/
LOCATION:Lyche Theatre\, 428 Front Street\, South\, La Crosse\, 54601
CATEGORIES:Viterbo University Fine Arts Center
ATTACH;FMTTYPE=image/jpeg:https://www.webercenterarts.org/wp-content/uploads/2022/07/Killer-Country-1200x675-2.jpg
GEO:43.8107308;-91.2568639
X-APPLE-STRUCTURED-LOCATION;VALUE=URI;X-ADDRESS=Lyche Theatre 428 Front Street South La Crosse 54601;X-APPLE-RADIUS=500;X-TITLE=428 Front Street\, South:geo:-91.2568639,43.8107308
END:VEVENT
END:VCALENDAR